BEGIN:VCALENDAR
VERSION:2.0
PRODID:-//Squarespace Inc/Squarespace 6//v6//EN
BEGIN:VEVENT
UID:5dd5b8d3a8c5393bf295ee44@squarespace.com
DTSTAMP:20191120T221330Z
DTSTART:20191125T210000Z
DTEND:20191126T023000Z
SUMMARY:The Digital Bootcamp for Wagga Wagga Small Businesses 
GEO:-35.109561;147.371457
LOCATION:Wagga Wagga City Council\, 243 Baylis Street\, Wagga Wagga\, NSW\, 
 2650\, Australia
END:VEVENT
END:VCALENDAR
