BEGIN:VCALENDAR
VERSION:2.0
PRODID:-//Squarespace Inc/Squarespace 6//v6//EN
BEGIN:VEVENT
UID:5db90bad5b4dbb23581ebc1d@squarespace.com
DTSTAMP:20191030T040955Z
DTSTART:20191105T213000Z
DTEND:20191106T013000Z
SUMMARY:Empowering Young Refugees: Challenges and Opportunities Youth Healt
 h Forum
END:VEVENT
END:VCALENDAR
