BEGIN:VCALENDAR
VERSION:2.0
PRODID:-//Squarespace Inc/Squarespace 6//v6//EN
BEGIN:VEVENT
UID:5dd76363bceff30efb9f13b5@squarespace.com
DTSTAMP:20191122T043358Z
DTSTART:20191203T200000Z
DTEND:20191203T234000Z
SUMMARY:Regions Rising NSW
END:VEVENT
END:VCALENDAR
