BEGIN:VCALENDAR
VERSION:2.0
PRODID:-//Squarespace Inc/Squarespace 6//v6//EN
BEGIN:VEVENT
UID:5d9140d6bd027f6ecf853bf2@squarespace.com
DTSTAMP:20190929T234643Z
DTSTART:20191031T013000Z
DTEND:20191031T023000Z
SUMMARY:Partnerships for Profit &amp\; Purpose: Webinar Series #3
END:VEVENT
END:VCALENDAR
