BEGIN:VCALENDAR
VERSION:2.0
PRODID:-//Squarespace Inc/Squarespace 6//v6//EN
BEGIN:VEVENT
UID:5e17ed9fba884e333cc9f90c@squarespace.com
DTSTAMP:20200112T225351Z
DTSTART:20200129T023000Z
DTEND:20200129T050000Z
SUMMARY:ICN Profile Workshop for Snowy 2.0 and Inland Rail - Wagga Wagga
GEO:-35.109561;147.371457
LOCATION:Wagga Wagga City Council Chambers\, 243 Baylis Street\, Wagga Wagg
 a\, NSW\, 2650\, Australia
END:VEVENT
END:VCALENDAR
