BEGIN:VCALENDAR
VERSION:2.0
PRODID:-//Squarespace Inc/Squarespace 6//v6//EN
BEGIN:VEVENT
UID:5e2106147ecee047b535e1a4@squarespace.com
DTSTAMP:20200119T230705Z
DTSTART:20200129T220000Z
DTEND:20200130T080000Z
SUMMARY:2020 Inland Growth Summit
GEO:-32.461735;148.573121
LOCATION:Taronga Western Plains Zoo\, Obley Road\, Dubbo\, NSW\, 2830\, Aus
 tralia
END:VEVENT
END:VCALENDAR
