BEGIN:VCALENDAR
VERSION:2.0
PRODID:-//Squarespace Inc/Squarespace 6//v6//EN
BEGIN:VEVENT
UID:5e1bd7f64c275445aae915e0@squarespace.com
DTSTAMP:20200113T024603Z
DTSTART:20200211T000000Z
DTEND:20200211T020000Z
SUMMARY:Visa options for employing workers in regional Australia
GEO:-35.109561;147.371457
LOCATION:Wagga Wagga City Council\, 243 Baylis Street\, Wagga Wagga\, NSW\, 
 2650\, Australia
END:VEVENT
END:VCALENDAR
