BEGIN:VCALENDAR
VERSION:2.0
PRODID:-//Squarespace Inc/Squarespace 6//v6//EN
BEGIN:VEVENT
UID:5e530e8a576c4c1eab8a23d4@squarespace.com
DTSTAMP:20200223T234905Z
DTSTART:20200225T000000Z
DTEND:20200225T010000Z
SUMMARY:NBN in Bomen - Information session 
END:VEVENT
END:VCALENDAR
