BEGIN:VCALENDAR
VERSION:2.0
PRODID:-//Squarespace Inc/Squarespace 6//v6//EN
BEGIN:VEVENT
UID:5e435f4918e6e3448f10ca74@squarespace.com
DTSTAMP:20200218T030617Z
DTSTART:20200228T010000Z
DTEND:20200228T020000Z
SUMMARY:The Founders Collective
GEO:-35.058417;147.353712
LOCATION:Agritech Incubator\, Building 6\, Charles Sturt University\, Booro
 oma Street\, North Wagga Wagga\, NSW 2650\, Australia
END:VEVENT
END:VCALENDAR
