BEGIN:VCALENDAR
VERSION:2.0
PRODID:-//Squarespace Inc/Squarespace 6//v6//EN
BEGIN:VEVENT
UID:5db9117e519a7150a9061f6c@squarespace.com
DTSTAMP:20191030T043253Z
DTSTART:20200206T200000Z
DTEND:20200207T110000Z
SUMMARY:Young Farmer Business Program Conference
END:VEVENT
END:VCALENDAR
