BEGIN:VCALENDAR
VERSION:2.0
PRODID:-//Squarespace Inc/Squarespace 6//v6//EN
BEGIN:VEVENT
UID:5e437685f3256022ed50fed9@squarespace.com
DTSTAMP:20200218T030649Z
DTSTART:20200322T220000Z
DTEND:20200327T060000Z
SUMMARY:Women on Wheels Training
GEO:-34.603485;146.409674
LOCATION:Yanco\, NSW\, Australia
END:VEVENT
END:VCALENDAR
