BEGIN:VCALENDAR
VERSION:2.0
PRODID:-//Squarespace Inc/Squarespace 6//v6//EN
BEGIN:VEVENT
UID:5df83ab98571f5548e2cd4cf@squarespace.com
DTSTAMP:20191217T022527Z
DTSTART:20200302T220000Z
DTEND:20200304T050000Z
SUMMARY:ABARES Outlook 2020 Conference
END:VEVENT
END:VCALENDAR
