BEGIN:VCALENDAR
VERSION:2.0
PRODID:-//Squarespace Inc/Squarespace 6//v6//EN
BEGIN:VEVENT
UID:5e4dfe4c893176086021f7bf@squarespace.com
DTSTAMP:20200220T033923Z
DTSTART:20200303T050000Z
DTEND:20200303T080000Z
SUMMARY:From surviving to thriving: How regional business can adapt and thr
 ive
END:VEVENT
END:VCALENDAR
