BEGIN:VCALENDAR
VERSION:2.0
PRODID:-//Squarespace Inc/Squarespace 6//v6//EN
BEGIN:VEVENT
UID:5e4dfcde2921b265cf7e5e0d@squarespace.com
DTSTAMP:20200220T033348Z
DTSTART:20200304T200000Z
DTEND:20200304T210000Z
SUMMARY:Soroptimist International Griffith International Women's Day Breakf
 ast
END:VEVENT
END:VCALENDAR
