BEGIN:VCALENDAR
VERSION:2.0
PRODID:-//Squarespace Inc/Squarespace 6//v6//EN
BEGIN:VEVENT
UID:5e4b51de6d8433076e088581@squarespace.com
DTSTAMP:20200218T030730Z
DTSTART:20200304T200000Z
DTEND:20200304T210000Z
SUMMARY:Soroptimist International Griffith - International Women's Day Brea
 kfast
GEO:-34.289368;146.049505
LOCATION:Griffith Exies Club\, 6 Jondaryan Avenue\, Griffith\, NSW\, 2680\, 
 Australia
END:VEVENT
END:VCALENDAR
