BEGIN:VCALENDAR
VERSION:2.0
PRODID:-//Squarespace Inc/Squarespace 6//v6//EN
BEGIN:VEVENT
UID:5df9988ee0f0ae6c75c35b83@squarespace.com
DTSTAMP:20191218T033254Z
DTSTART:20200426T230000Z
DTEND:20200428T070000Z
SUMMARY:Stem 20/20
END:VEVENT
END:VCALENDAR
