BEGIN:VCALENDAR
VERSION:2.0
PRODID:-//Squarespace Inc/Squarespace 6//v6//EN
BEGIN:VEVENT
UID:5e4e00e16344df07b0fd84b5@squarespace.com
DTSTAMP:20200220T035007Z
DTSTART:20200913T230000Z
DTEND:20200915T070000Z
SUMMARY:Australian Regional Development Conference
GEO:-35.280937;149.130009
LOCATION:Canberra\, ACT
END:VEVENT
END:VCALENDAR
